BEGIN:VCALENDAR
VERSION:2.0
PRODID:-//eventon.com NONSGML v1.0//EN
CALSCALE:GREGORIAN
METHOD:PUBLISH
BEGIN:VEVENT
UID:69e4efc560956
DTSTAMP:20260419T150749Z
DTSTART:20200726T110000Z
DTEND:20200726T115000Z
LOCATION:
SUMMARY:Hearts Unify - What the Bleep?
DESCRIPTION:What the Bleep!? Inside water &#8211; Coherence vs. Chaos! How 
 intention and coherent thoughts affect water\,  therefore directly affectin
 g our bodies. Many of our Mexican friends will also join us on this beautif
 ul Sunday. Join us for our FREE weekly Hearts Unify global Zoom call. Peopl
 e from all around the[..]\nhttps://globalcoherencepulse.org/event/hearts-un
 ify-what-the-bleep/
URL:https://globalcoherencepulse.org/event/hearts-unify-what-the-bleep/
END:VEVENT
END:VCALENDAR