BEGIN:VCALENDAR
VERSION:2.0
PRODID:-//eventon.com NONSGML v1.0//EN
CALSCALE:GREGORIAN
METHOD:PUBLISH
BEGIN:VEVENT
UID:69e4db4079806
DTSTAMP:20260419T134016Z
DTSTART:20220423T180000Z
DTEND:20220423T193000Z
LOCATION:https://us02web.zoom.us/webinar/register/WN_zCNlqyDuRemdoATlrfSvYQ
SUMMARY:Cultivating Coherence in Community
DESCRIPTION:Cultivating Coherence in Community\nhttps://globalcoherencepuls
 e.org/event/cultivating-coherence-in-community/var/event_access
URL:https://globalcoherencepulse.org/event/cultivating-coherence-in-community/var/event_access
END:VEVENT
END:VCALENDAR