BEGIN:VCALENDAR
VERSION:2.0
PRODID:-//eventon.com NONSGML v1.0//EN
CALSCALE:GREGORIAN
METHOD:PUBLISH
BEGIN:VEVENT
UID:69e4ebfdd1abd
DTSTAMP:20260419T145141Z
DTSTART:20240921T190000Z
DTEND:20240922T065000Z
LOCATION:https://bit.ly/GCPulsePeaceDay
SUMMARY:Joy to Wholeness - Global Coherence Pulse
DESCRIPTION:GLOBAL COHERENCE PULSEJoy to Wholeness with Cecilia LiuInternat
 ional Day of PeaceSeptember 21st\,  202412pm PT\,  3pm ET\,  8pm BST Life i
 s a journey to our Wholeness. What is “wholeness” in life? Does this pa
 th to wholeness have to be all bitter or can it also be joyful? In our Glob
 al Coherence[..]\nhttps://globalcoherencepulse.org/event/joy-to-wholeness-g
 lobal-coherence-pulse/var/event_access
URL:https://globalcoherencepulse.org/event/joy-to-wholeness-global-coherence-pulse/var/event_access
END:VEVENT
END:VCALENDAR